BEGIN:VCALENDAR
VERSION:2.0
PRODID:icalendar-ruby
CALSCALE:GREGORIAN
METHOD:PUBLISH
BEGIN:VEVENT
DTSTAMP:20260423T123048Z
UID:7-477477@salinepres.org
DTSTART:20261021T133000Z
DTEND:20261021T150000Z
CLASS:PUBLIC
CREATED:20260422T230224
DESCRIPTION:
LAST-MODIFIED:20260422T230224
LOCATION:
SUMMARY:Good Morning Study Group
URL;VALUE=URI:https://salinepres.org/events/good-morning-study-group/2026-1
 0-21
END:VEVENT
END:VCALENDAR
