BEGIN:VCALENDAR
VERSION:2.0
PRODID:icalendar-ruby
CALSCALE:GREGORIAN
METHOD:PUBLISH
BEGIN:VEVENT
DTSTAMP:20260423T142321Z
UID:7-477828@salinepres.org
DTSTART:20261028T133000Z
DTEND:20261028T150000Z
CLASS:PUBLIC
CREATED:20260423T083240
DESCRIPTION:
LAST-MODIFIED:20260423T083240
LOCATION:
SUMMARY:Good Morning Study Group
URL;VALUE=URI:https://salinepres.org/events/good-morning-study-group/2026-1
 0-28
END:VEVENT
END:VCALENDAR
