BEGIN:VCALENDAR
VERSION:2.0
PRODID:icalendar-ruby
CALSCALE:GREGORIAN
METHOD:PUBLISH
BEGIN:VEVENT
DTSTAMP:20260423T161020Z
UID:7-478179@salinepres.org
DTSTART:20261104T143000Z
DTEND:20261104T160000Z
CLASS:PUBLIC
CREATED:20260423T112510
DESCRIPTION:
LAST-MODIFIED:20260423T112510
LOCATION:
SUMMARY:Good Morning Study Group
URL;VALUE=URI:https://salinepres.org/events/good-morning-study-group/2026-1
 1-04
END:VEVENT
END:VCALENDAR
