BEGIN:VCALENDAR
VERSION:2.0
PRODID:icalendar-ruby
CALSCALE:GREGORIAN
METHOD:PUBLISH
BEGIN:VEVENT
DTSTAMP:20260420T111956Z
UID:5-471094@salinepres.org
DTSTART:20260830T140000Z
DTEND:20260830T150000Z
CLASS:PUBLIC
CREATED:20260420T033459
DESCRIPTION:Sunday Worship
LAST-MODIFIED:20260420T033459
LOCATION:
SUMMARY:Sunday Worship
URL;VALUE=URI:https://salinepres.org/events/sunday-worship/2026-08-30
END:VEVENT
END:VCALENDAR
