BEGIN:VCALENDAR
VERSION:2.0
PRODID:icalendar-ruby
CALSCALE:GREGORIAN
METHOD:PUBLISH
BEGIN:VEVENT
DTSTAMP:20260420T174706Z
UID:5-472146@salinepres.org
DTSTART:20260927T140000Z
DTEND:20260927T150000Z
CLASS:PUBLIC
CREATED:20260420T132315
DESCRIPTION:Sunday Worship
LAST-MODIFIED:20260420T132315
LOCATION:
SUMMARY:Sunday Worship
URL;VALUE=URI:https://salinepres.org/events/sunday-worship/2026-09-27
END:VEVENT
END:VCALENDAR
