BEGIN:VCALENDAR
VERSION:2.0
PRODID:icalendar-ruby
CALSCALE:GREGORIAN
METHOD:PUBLISH
BEGIN:VEVENT
DTSTAMP:20260421T013646Z
UID:5-473198@salinepres.org
DTSTART:20261101T150000Z
DTEND:20261101T160000Z
CLASS:PUBLIC
CREATED:20260420T210841
DESCRIPTION:Sunday Worship
LAST-MODIFIED:20260420T210841
LOCATION:
SUMMARY:Sunday Worship
URL;VALUE=URI:https://salinepres.org/events/sunday-worship/2026-11-01
END:VEVENT
END:VCALENDAR
